BEGIN:VCALENDAR
VERSION:2.0
PRODID:-//Eric G Lambert School - ECPv6.15.20//NONSGML v1.0//EN
CALSCALE:GREGORIAN
METHOD:PUBLISH
X-ORIGINAL-URL:https://ericglambertschool.ca
X-WR-CALDESC:Events for Eric G Lambert School
REFRESH-INTERVAL;VALUE=DURATION:PT1H
X-Robots-Tag:noindex
X-PUBLISHED-TTL:PT1H
BEGIN:VTIMEZONE
TZID:UTC
BEGIN:STANDARD
TZOFFSETFROM:+0000
TZOFFSETTO:+0000
TZNAME:UTC
DTSTART:20220101T000000
END:STANDARD
END:VTIMEZONE
BEGIN:VEVENT
DTSTART;TZID=UTC:20230831T080000
DTEND;TZID=UTC:20230901T170000
DTSTAMP:20260421T173505
CREATED:20230810T140354Z
LAST-MODIFIED:20230810T140402Z
UID:10000097-1693468800-1693587600@ericglambertschool.ca
SUMMARY:Administration Days
DESCRIPTION:
URL:https://ericglambertschool.ca/calendar/administration-days-2023/
CATEGORIES:Administration Days
END:VEVENT
END:VCALENDAR