BEGIN:VCALENDAR
VERSION:2.0
PRODID:-//Eric G Lambert School - ECPv6.15.20//NONSGML v1.0//EN
CALSCALE:GREGORIAN
METHOD:PUBLISH
X-ORIGINAL-URL:https://ericglambertschool.ca
X-WR-CALDESC:Events for Eric G Lambert School
REFRESH-INTERVAL;VALUE=DURATION:PT1H
X-Robots-Tag:noindex
X-PUBLISHED-TTL:PT1H
BEGIN:VTIMEZONE
TZID:UTC
BEGIN:STANDARD
TZOFFSETFROM:+0000
TZOFFSETTO:+0000
TZNAME:UTC
DTSTART:20220101T000000
END:STANDARD
END:VTIMEZONE
BEGIN:VEVENT
DTSTART;VALUE=DATE:20230620
DTEND;VALUE=DATE:20230621
DTSTAMP:20260421T205820
CREATED:20221021T140732Z
LAST-MODIFIED:20221021T141729Z
UID:10000093-1687219200-1687305599@ericglambertschool.ca
SUMMARY:Last day for classes
DESCRIPTION:Last day for scheduled classes
URL:https://ericglambertschool.ca/calendar/last-day-of-scheduled-classes/
CATEGORIES:Activity/Event,Notification
END:VEVENT
BEGIN:VEVENT
DTSTART;VALUE=DATE:20230621
DTEND;VALUE=DATE:20230623
DTSTAMP:20260421T205820
CREATED:20220831T163839Z
LAST-MODIFIED:20220831T163839Z
UID:10000083-1687305600-1687478399@ericglambertschool.ca
SUMMARY:Administration Days
DESCRIPTION:
URL:https://ericglambertschool.ca/calendar/administration-days-2/
CATEGORIES:Administration Days
END:VEVENT
BEGIN:VEVENT
DTSTART;VALUE=DATE:20230622
DTEND;VALUE=DATE:20230623
DTSTAMP:20260421T205820
CREATED:20221021T140820Z
LAST-MODIFIED:20221021T140820Z
UID:10000094-1687392000-1687478399@ericglambertschool.ca
SUMMARY:Year-end Assembly
DESCRIPTION:Year-end Assembly in Gym at 7pm (Grades 4-12)
URL:https://ericglambertschool.ca/calendar/year-end-assembly/
CATEGORIES:Activity/Event
END:VEVENT
BEGIN:VEVENT
DTSTART;VALUE=DATE:20230623
DTEND;VALUE=DATE:20230624
DTSTAMP:20260421T205820
CREATED:20221021T140908Z
LAST-MODIFIED:20221021T141054Z
UID:10000095-1687478400-1687564799@ericglambertschool.ca
SUMMARY:Half Day
DESCRIPTION:School closing. ½ day attendance (morning)
URL:https://ericglambertschool.ca/calendar/%c2%bd-day-attendance-morning/
CATEGORIES:Early Dismissal
END:VEVENT
END:VCALENDAR