BEGIN:VCALENDAR
VERSION:2.0
PRODID:-//Eric G Lambert School - ECPv6.15.20//NONSGML v1.0//EN
CALSCALE:GREGORIAN
METHOD:PUBLISH
X-WR-CALNAME:Eric G Lambert School
X-ORIGINAL-URL:https://ericglambertschool.ca
X-WR-CALDESC:Events for Eric G Lambert School
REFRESH-INTERVAL;VALUE=DURATION:PT1H
X-Robots-Tag:noindex
X-PUBLISHED-TTL:PT1H
BEGIN:VTIMEZONE
TZID:UTC
BEGIN:STANDARD
TZOFFSETFROM:+0000
TZOFFSETTO:+0000
TZNAME:UTC
DTSTART:20210101T000000
END:STANDARD
END:VTIMEZONE
BEGIN:VEVENT
DTSTART;VALUE=DATE:20221222
DTEND;VALUE=DATE:20230103
DTSTAMP:20260422T053102
CREATED:20220831T162644Z
LAST-MODIFIED:20220831T162644Z
UID:10000077-1671667200-1672703999@ericglambertschool.ca
SUMMARY:Christmas Break
DESCRIPTION:
URL:https://ericglambertschool.ca/calendar/christmas-break/
CATEGORIES:Holiday
END:VEVENT
BEGIN:VEVENT
DTSTART;VALUE=DATE:20230116
DTEND;VALUE=DATE:20230117
DTSTAMP:20260422T053102
CREATED:20220831T162740Z
LAST-MODIFIED:20220831T162910Z
UID:10000078-1673827200-1673913599@ericglambertschool.ca
SUMMARY:Curriculum Planning Days
DESCRIPTION:(no classes for students)
URL:https://ericglambertschool.ca/calendar/curriculum-planning-days-no-classes-for-students-2/
CATEGORIES:Curriculum Planning Days
END:VEVENT
BEGIN:VEVENT
DTSTART;VALUE=DATE:20230125
DTEND;VALUE=DATE:20230126
DTSTAMP:20260422T053102
CREATED:20221021T135457Z
LAST-MODIFIED:20221021T135457Z
UID:10000087-1674604800-1674691199@ericglambertschool.ca
SUMMARY:Early Student Dismissal
DESCRIPTION:Early Student Dismissal at 2:00PM
URL:https://ericglambertschool.ca/calendar/early-student-dismissal-3/
CATEGORIES:Early Dismissal
END:VEVENT
END:VCALENDAR