BEGIN:VCALENDAR
VERSION:2.0
PRODID:-//Eric G Lambert School - ECPv6.15.20//NONSGML v1.0//EN
CALSCALE:GREGORIAN
METHOD:PUBLISH
X-ORIGINAL-URL:https://ericglambertschool.ca
X-WR-CALDESC:Events for Eric G Lambert School
REFRESH-INTERVAL;VALUE=DURATION:PT1H
X-Robots-Tag:noindex
X-PUBLISHED-TTL:PT1H
BEGIN:VTIMEZONE
TZID:UTC
BEGIN:STANDARD
TZOFFSETFROM:+0000
TZOFFSETTO:+0000
TZNAME:UTC
DTSTART:20210101T000000
END:STANDARD
END:VTIMEZONE
BEGIN:VEVENT
DTSTART;VALUE=DATE:20260403
DTEND;VALUE=DATE:20260411
DTSTAMP:20260424T020247
CREATED:20250825T140449Z
LAST-MODIFIED:20250825T140449Z
UID:10000150-1775174400-1775865599@ericglambertschool.ca
SUMMARY:Easter Vacation
DESCRIPTION:
URL:https://ericglambertschool.ca/calendar/easter-vacation/
CATEGORIES:Holiday
END:VEVENT
BEGIN:VEVENT
DTSTART;VALUE=DATE:20260216
DTEND;VALUE=DATE:20260221
DTSTAMP:20260424T020247
CREATED:20250825T140334Z
LAST-MODIFIED:20250825T140334Z
UID:10000148-1771200000-1771631999@ericglambertschool.ca
SUMMARY:School Holiday
DESCRIPTION:
URL:https://ericglambertschool.ca/calendar/school-holiday/
CATEGORIES:Holiday
END:VEVENT
BEGIN:VEVENT
DTSTART;VALUE=DATE:20251222
DTEND;VALUE=DATE:20260103
DTSTAMP:20260424T020247
CREATED:20250825T140039Z
LAST-MODIFIED:20251205T182724Z
UID:10000146-1766361600-1767398399@ericglambertschool.ca
SUMMARY:Christmas Vacation
DESCRIPTION:Dec. 22 to Jan. 2 \nHappy Holidays! \n  \n 
URL:https://ericglambertschool.ca/calendar/christmas-vacation/
CATEGORIES:Holiday
END:VEVENT
BEGIN:VEVENT
DTSTART;VALUE=DATE:20251111
DTEND;VALUE=DATE:20251112
DTSTAMP:20260424T020247
CREATED:20250825T135936Z
LAST-MODIFIED:20250825T135936Z
UID:10000145-1762819200-1762905599@ericglambertschool.ca
SUMMARY:Remembrance Day
DESCRIPTION:
URL:https://ericglambertschool.ca/calendar/remembrance-day-3/
CATEGORIES:Holiday
END:VEVENT
BEGIN:VEVENT
DTSTART;VALUE=DATE:20251013
DTEND;VALUE=DATE:20251014
DTSTAMP:20260424T020247
CREATED:20250825T115503Z
LAST-MODIFIED:20250825T135622Z
UID:10000142-1760313600-1760399999@ericglambertschool.ca
SUMMARY:Thanksgiving Holiday
DESCRIPTION:
URL:https://ericglambertschool.ca/calendar/thanksgiving-holiday/
CATEGORIES:Holiday
END:VEVENT
BEGIN:VEVENT
DTSTART;VALUE=DATE:20250519
DTEND;VALUE=DATE:20250520
DTSTAMP:20260424T020247
CREATED:20240815T131839Z
LAST-MODIFIED:20240815T131839Z
UID:10000123-1747612800-1747699199@ericglambertschool.ca
SUMMARY:Victoria Day
DESCRIPTION:
URL:https://ericglambertschool.ca/calendar/victoria-day-2/
CATEGORIES:Holiday
END:VEVENT
BEGIN:VEVENT
DTSTART;VALUE=DATE:20250418
DTEND;VALUE=DATE:20250426
DTSTAMP:20260424T020247
CREATED:20240815T131739Z
LAST-MODIFIED:20240815T131739Z
UID:10000121-1744934400-1745625599@ericglambertschool.ca
SUMMARY:Easter/Spring Break
DESCRIPTION:
URL:https://ericglambertschool.ca/calendar/easter-spring-break/
CATEGORIES:Holiday
END:VEVENT
BEGIN:VEVENT
DTSTART;VALUE=DATE:20250317
DTEND;VALUE=DATE:20250318
DTSTAMP:20260424T020247
CREATED:20240815T131711Z
LAST-MODIFIED:20240815T131711Z
UID:10000120-1742169600-1742255999@ericglambertschool.ca
SUMMARY:St. Patrick’s Day
DESCRIPTION:
URL:https://ericglambertschool.ca/calendar/st-patricks-day/
CATEGORIES:Holiday
END:VEVENT
BEGIN:VEVENT
DTSTART;VALUE=DATE:20250218
DTEND;VALUE=DATE:20250222
DTSTAMP:20260424T020247
CREATED:20240815T131527Z
LAST-MODIFIED:20240815T131527Z
UID:10000117-1739836800-1740182399@ericglambertschool.ca
SUMMARY:Mid-Winter Break
DESCRIPTION:
URL:https://ericglambertschool.ca/calendar/mid-winter-break/
CATEGORIES:Holiday
END:VEVENT
BEGIN:VEVENT
DTSTART;VALUE=DATE:20241223
DTEND;VALUE=DATE:20250104
DTSTAMP:20260424T020247
CREATED:20240815T131313Z
LAST-MODIFIED:20240815T131313Z
UID:10000115-1734912000-1735948799@ericglambertschool.ca
SUMMARY:Winter/Christmas Break
DESCRIPTION:
URL:https://ericglambertschool.ca/calendar/winter-christmas-break/
CATEGORIES:Holiday
END:VEVENT
BEGIN:VEVENT
DTSTART;VALUE=DATE:20241111
DTEND;VALUE=DATE:20241112
DTSTAMP:20260424T020247
CREATED:20240815T131042Z
LAST-MODIFIED:20240815T131042Z
UID:10000111-1731283200-1731369599@ericglambertschool.ca
SUMMARY:Remembrance Day
DESCRIPTION:
URL:https://ericglambertschool.ca/calendar/remembrance-day-2/
CATEGORIES:Holiday
END:VEVENT
BEGIN:VEVENT
DTSTART;VALUE=DATE:20241014
DTEND;VALUE=DATE:20241015
DTSTAMP:20260424T020247
CREATED:20240815T131021Z
LAST-MODIFIED:20240815T131021Z
UID:10000110-1728864000-1728950399@ericglambertschool.ca
SUMMARY:Thanksgiving
DESCRIPTION:
URL:https://ericglambertschool.ca/calendar/thanksgiving/
CATEGORIES:Holiday
END:VEVENT
BEGIN:VEVENT
DTSTART;VALUE=DATE:20240902
DTEND;VALUE=DATE:20240903
DTSTAMP:20260424T020247
CREATED:20240815T130937Z
LAST-MODIFIED:20240815T130937Z
UID:10000109-1725235200-1725321599@ericglambertschool.ca
SUMMARY:Labor Day
DESCRIPTION:
URL:https://ericglambertschool.ca/calendar/labor-day/
CATEGORIES:Holiday
END:VEVENT
BEGIN:VEVENT
DTSTART;VALUE=DATE:20240520
DTEND;VALUE=DATE:20240521
DTSTAMP:20260424T020247
CREATED:20230810T142006Z
LAST-MODIFIED:20230810T142015Z
UID:10000055-1716163200-1716249599@ericglambertschool.ca
SUMMARY:Victoria Day
DESCRIPTION:
URL:https://ericglambertschool.ca/calendar/victoria-day-2024/
CATEGORIES:Holiday
END:VEVENT
BEGIN:VEVENT
DTSTART;TZID=UTC:20240329T080000
DTEND;TZID=UTC:20240405T170000
DTSTAMP:20260424T020247
CREATED:20230810T141805Z
LAST-MODIFIED:20230810T141818Z
UID:10000054-1711699200-1712336400@ericglambertschool.ca
SUMMARY:Easter Holidays
DESCRIPTION:
URL:https://ericglambertschool.ca/calendar/easter-holidays-2024/
CATEGORIES:Holiday
END:VEVENT
BEGIN:VEVENT
DTSTART;TZID=UTC:20240215T080000
DTEND;TZID=UTC:20240216T170000
DTSTAMP:20260424T020247
CREATED:20230810T141635Z
LAST-MODIFIED:20230810T141643Z
UID:10000106-1707984000-1708102800@ericglambertschool.ca
SUMMARY:School Holidays
DESCRIPTION:
URL:https://ericglambertschool.ca/calendar/school-holidays-feb-2024/
CATEGORIES:Holiday
END:VEVENT
BEGIN:VEVENT
DTSTART;TZID=UTC:20231222T080000
DTEND;TZID=UTC:20240102T170000
DTSTAMP:20260424T020247
CREATED:20230810T141412Z
LAST-MODIFIED:20230810T141558Z
UID:10000105-1703232000-1704214800@ericglambertschool.ca
SUMMARY:Christmas Holidays
DESCRIPTION:
URL:https://ericglambertschool.ca/calendar/christmas-school-holidays-2023-2024/
CATEGORIES:Holiday
END:VEVENT
BEGIN:VEVENT
DTSTART;VALUE=DATE:20231113
DTEND;VALUE=DATE:20231114
DTSTAMP:20260424T020247
CREATED:20230810T141240Z
LAST-MODIFIED:20230810T141247Z
UID:10000104-1699833600-1699919999@ericglambertschool.ca
SUMMARY:Remembrance Day
DESCRIPTION:
URL:https://ericglambertschool.ca/calendar/remembrance-day-2024/
CATEGORIES:Holiday
END:VEVENT
BEGIN:VEVENT
DTSTART;VALUE=DATE:20231009
DTEND;VALUE=DATE:20231010
DTSTAMP:20260424T020247
CREATED:20230810T140453Z
LAST-MODIFIED:20230810T140520Z
UID:10000098-1696809600-1696895999@ericglambertschool.ca
SUMMARY:Thanksgiving
DESCRIPTION:
URL:https://ericglambertschool.ca/calendar/thanksgiving-2023/
CATEGORIES:Holiday
END:VEVENT
BEGIN:VEVENT
DTSTART;VALUE=DATE:20230904
DTEND;VALUE=DATE:20230905
DTSTAMP:20260424T020247
CREATED:20230810T140232Z
LAST-MODIFIED:20230810T140300Z
UID:10000096-1693785600-1693871999@ericglambertschool.ca
SUMMARY:Labour Day
DESCRIPTION:
URL:https://ericglambertschool.ca/calendar/labour-day-2023/
CATEGORIES:Holiday
END:VEVENT
BEGIN:VEVENT
DTSTART;VALUE=DATE:20230522
DTEND;VALUE=DATE:20230523
DTSTAMP:20260424T020247
CREATED:20220831T164102Z
LAST-MODIFIED:20220831T164102Z
UID:10000084-1684713600-1684799999@ericglambertschool.ca
SUMMARY:Victoria Day
DESCRIPTION:
URL:https://ericglambertschool.ca/calendar/victoria-day/
CATEGORIES:Holiday
END:VEVENT
BEGIN:VEVENT
DTSTART;VALUE=DATE:20230407
DTEND;VALUE=DATE:20230415
DTSTAMP:20260424T020247
CREATED:20220831T163628Z
LAST-MODIFIED:20220831T163628Z
UID:10000082-1680825600-1681516799@ericglambertschool.ca
SUMMARY:Easter Break
DESCRIPTION:
URL:https://ericglambertschool.ca/calendar/easter-break/
CATEGORIES:Holiday
END:VEVENT
BEGIN:VEVENT
DTSTART;VALUE=DATE:20230309
DTEND;VALUE=DATE:20230311
DTSTAMP:20260424T020247
CREATED:20220831T163459Z
LAST-MODIFIED:20220831T163523Z
UID:10000081-1678320000-1678492799@ericglambertschool.ca
SUMMARY:School Holidays
DESCRIPTION:No school for students.
URL:https://ericglambertschool.ca/calendar/march-holidays/
CATEGORIES:Holiday
END:VEVENT
BEGIN:VEVENT
DTSTART;VALUE=DATE:20221222
DTEND;VALUE=DATE:20230103
DTSTAMP:20260424T020247
CREATED:20220831T162644Z
LAST-MODIFIED:20220831T162644Z
UID:10000077-1671667200-1672703999@ericglambertschool.ca
SUMMARY:Christmas Break
DESCRIPTION:
URL:https://ericglambertschool.ca/calendar/christmas-break/
CATEGORIES:Holiday
END:VEVENT
BEGIN:VEVENT
DTSTART;VALUE=DATE:20221111
DTEND;VALUE=DATE:20221112
DTSTAMP:20260424T020247
CREATED:20220831T162335Z
LAST-MODIFIED:20220831T162335Z
UID:10000075-1668124800-1668211199@ericglambertschool.ca
SUMMARY:Remembrance Day
DESCRIPTION:
URL:https://ericglambertschool.ca/calendar/remembrance-day/
CATEGORIES:Holiday
END:VEVENT
BEGIN:VEVENT
DTSTART;VALUE=DATE:20221010
DTEND;VALUE=DATE:20221011
DTSTAMP:20260424T020247
CREATED:20220831T162235Z
LAST-MODIFIED:20220831T162235Z
UID:10000074-1665360000-1665446399@ericglambertschool.ca
SUMMARY:Thanksgiving Day
DESCRIPTION:
URL:https://ericglambertschool.ca/calendar/thanksgiving-day/
CATEGORIES:Holiday
END:VEVENT
BEGIN:VEVENT
DTSTART;VALUE=DATE:20220905
DTEND;VALUE=DATE:20220906
DTSTAMP:20260424T020247
CREATED:20220831T162153Z
LAST-MODIFIED:20220831T162153Z
UID:10000073-1662336000-1662422399@ericglambertschool.ca
SUMMARY:Labour Day
DESCRIPTION:
URL:https://ericglambertschool.ca/calendar/labour-day/
CATEGORIES:Holiday
END:VEVENT
BEGIN:VEVENT
DTSTART;VALUE=DATE:20220523
DTEND;VALUE=DATE:20220524
DTSTAMP:20260424T020247
CREATED:20220510T145219Z
LAST-MODIFIED:20220512T225622Z
UID:10000057-1653264000-1653350399@ericglambertschool.ca
SUMMARY:Victoria Day Holiday
DESCRIPTION:
URL:https://ericglambertschool.ca/calendar/victoria-day-holiday/
CATEGORIES:Holiday
END:VEVENT
END:VCALENDAR