BEGIN:VCALENDAR
VERSION:2.0
PRODID:-//Eric G Lambert School - ECPv6.15.20//NONSGML v1.0//EN
CALSCALE:GREGORIAN
METHOD:PUBLISH
X-WR-CALNAME:Eric G Lambert School
X-ORIGINAL-URL:https://ericglambertschool.ca
X-WR-CALDESC:Events for Eric G Lambert School
REFRESH-INTERVAL;VALUE=DURATION:PT1H
X-Robots-Tag:noindex
X-PUBLISHED-TTL:PT1H
BEGIN:VTIMEZONE
TZID:UTC
BEGIN:STANDARD
TZOFFSETFROM:+0000
TZOFFSETTO:+0000
TZNAME:UTC
DTSTART:20220101T000000
END:STANDARD
END:VTIMEZONE
BEGIN:VEVENT
DTSTART;VALUE=DATE:20230905
DTEND;VALUE=DATE:20230906
DTSTAMP:20260421T173336
CREATED:20230810T140943Z
LAST-MODIFIED:20230823T142515Z
UID:10000103-1693872000-1693958399@ericglambertschool.ca
SUMMARY:Class begins. Welcome to all our students\, returning and new!
DESCRIPTION:
URL:https://ericglambertschool.ca/calendar/first-day-of-classes-for-students-2024/
CATEGORIES:Activity/Event
END:VEVENT
END:VCALENDAR