BEGIN:VCALENDAR
VERSION:2.0
PRODID:-//Eric G Lambert School - ECPv6.15.20//NONSGML v1.0//EN
CALSCALE:GREGORIAN
METHOD:PUBLISH
X-WR-CALNAME:Eric G Lambert School
X-ORIGINAL-URL:https://ericglambertschool.ca
X-WR-CALDESC:Events for Eric G Lambert School
REFRESH-INTERVAL;VALUE=DURATION:PT1H
X-Robots-Tag:noindex
X-PUBLISHED-TTL:PT1H
BEGIN:VTIMEZONE
TZID:UTC
BEGIN:STANDARD
TZOFFSETFROM:+0000
TZOFFSETTO:+0000
TZNAME:UTC
DTSTART:20210101T000000
END:STANDARD
END:VTIMEZONE
BEGIN:VEVENT
DTSTART;VALUE=DATE:20220621
DTEND;VALUE=DATE:20220622
DTSTAMP:20260422T190856
CREATED:20220510T152215Z
LAST-MODIFIED:20220513T173107Z
UID:10000067-1655769600-1655855999@ericglambertschool.ca
SUMMARY:Last day of classes K-12
DESCRIPTION:
URL:https://ericglambertschool.ca/calendar/last-day-of-classes-k-12/
CATEGORIES:Remarkable
END:VEVENT
END:VCALENDAR